BEGIN:VCALENDAR
VERSION:2.0
PRODID:-//Eric Von - ECPv6.15.20//NONSGML v1.0//EN
CALSCALE:GREGORIAN
METHOD:PUBLISH
X-ORIGINAL-URL:https://ericvonmusic.com
X-WR-CALDESC:Events for Eric Von
REFRESH-INTERVAL;VALUE=DURATION:PT1H
X-Robots-Tag:noindex
X-PUBLISHED-TTL:PT1H
BEGIN:VTIMEZONE
TZID:America/New_York
BEGIN:DAYLIGHT
TZOFFSETFROM:-0500
TZOFFSETTO:-0400
TZNAME:EDT
DTSTART:20250309T070000
END:DAYLIGHT
BEGIN:STANDARD
TZOFFSETFROM:-0400
TZOFFSETTO:-0500
TZNAME:EST
DTSTART:20251102T060000
END:STANDARD
BEGIN:DAYLIGHT
TZOFFSETFROM:-0500
TZOFFSETTO:-0400
TZNAME:EDT
DTSTART:20260308T070000
END:DAYLIGHT
BEGIN:STANDARD
TZOFFSETFROM:-0400
TZOFFSETTO:-0500
TZNAME:EST
DTSTART:20261101T060000
END:STANDARD
BEGIN:DAYLIGHT
TZOFFSETFROM:-0500
TZOFFSETTO:-0400
TZNAME:EDT
DTSTART:20270314T070000
END:DAYLIGHT
BEGIN:STANDARD
TZOFFSETFROM:-0400
TZOFFSETTO:-0500
TZNAME:EST
DTSTART:20271107T060000
END:STANDARD
END:VTIMEZONE
BEGIN:VEVENT
DTSTART;TZID=America/New_York:20260409T170000
DTEND;TZID=America/New_York:20260409T200000
DTSTAMP:20260423T012833
CREATED:20251214T233515Z
LAST-MODIFIED:20260409T234822Z
UID:17013-1775754000-1775764800@ericvonmusic.com
SUMMARY:Evie’s on the Bay Tiki Bar
DESCRIPTION:Come down and chill at the Tiki at Evie’s on the bay! Great Drinks\, amazing food and Music! I’ll see you there!!\nShow time-5:00-8:00pm\nLocated at: 135 Bayview Dr\nOsprey FL\, 3429
URL:https://ericvonmusic.com/event/evies-on-the-bay-tiki-bar-2/
LOCATION:Evie’s at Spanish Point – The Tiki\, 135 Bayview Dr\, Osprey\, FL\, United States
END:VEVENT
END:VCALENDAR