BEGIN:VCALENDAR
VERSION:2.0
PRODID:-//Eric Von - ECPv6.15.20//NONSGML v1.0//EN
CALSCALE:GREGORIAN
METHOD:PUBLISH
X-WR-CALNAME:Eric Von
X-ORIGINAL-URL:https://ericvonmusic.com
X-WR-CALDESC:Events for Eric Von
REFRESH-INTERVAL;VALUE=DURATION:PT1H
X-Robots-Tag:noindex
X-PUBLISHED-TTL:PT1H
BEGIN:VTIMEZONE
TZID:America/New_York
BEGIN:DAYLIGHT
TZOFFSETFROM:-0500
TZOFFSETTO:-0400
TZNAME:EDT
DTSTART:20250309T070000
END:DAYLIGHT
BEGIN:STANDARD
TZOFFSETFROM:-0400
TZOFFSETTO:-0500
TZNAME:EST
DTSTART:20251102T060000
END:STANDARD
BEGIN:DAYLIGHT
TZOFFSETFROM:-0500
TZOFFSETTO:-0400
TZNAME:EDT
DTSTART:20260308T070000
END:DAYLIGHT
BEGIN:STANDARD
TZOFFSETFROM:-0400
TZOFFSETTO:-0500
TZNAME:EST
DTSTART:20261101T060000
END:STANDARD
BEGIN:DAYLIGHT
TZOFFSETFROM:-0500
TZOFFSETTO:-0400
TZNAME:EDT
DTSTART:20270314T070000
END:DAYLIGHT
BEGIN:STANDARD
TZOFFSETFROM:-0400
TZOFFSETTO:-0500
TZNAME:EST
DTSTART:20271107T060000
END:STANDARD
END:VTIMEZONE
BEGIN:VEVENT
DTSTART;TZID=America/New_York:20260509T200000
DTEND;TZID=America/New_York:20260509T230000
DTSTAMP:20260423T031022
CREATED:20251214T233519Z
LAST-MODIFIED:20260422T003241Z
UID:17024-1778356800-1778367600@ericvonmusic.com
SUMMARY:The Greyson
DESCRIPTION:Come out enjoy some great food at The Grayson! Show time is from 7:30-10:30! See you there!!  \nThe Greyson 11161 State Road 70 E Unit 100 Lakewood Ranch\, FL  34202
URL:https://ericvonmusic.com/event/the-greyson-3/
LOCATION:The Greyson\, 8199 Lakewood Ranch Blvd\, Bradenton\, FL\, United States
END:VEVENT
END:VCALENDAR