BEGIN:VCALENDAR
VERSION:2.0
PRODID:-//Eric Von - ECPv6.15.20//NONSGML v1.0//EN
CALSCALE:GREGORIAN
METHOD:PUBLISH
X-WR-CALNAME:Eric Von
X-ORIGINAL-URL:https://ericvonmusic.com
X-WR-CALDESC:Events for Eric Von
REFRESH-INTERVAL;VALUE=DURATION:PT1H
X-Robots-Tag:noindex
X-PUBLISHED-TTL:PT1H
BEGIN:VTIMEZONE
TZID:America/New_York
BEGIN:DAYLIGHT
TZOFFSETFROM:-0500
TZOFFSETTO:-0400
TZNAME:EDT
DTSTART:20250309T070000
END:DAYLIGHT
BEGIN:STANDARD
TZOFFSETFROM:-0400
TZOFFSETTO:-0500
TZNAME:EST
DTSTART:20251102T060000
END:STANDARD
BEGIN:DAYLIGHT
TZOFFSETFROM:-0500
TZOFFSETTO:-0400
TZNAME:EDT
DTSTART:20260308T070000
END:DAYLIGHT
BEGIN:STANDARD
TZOFFSETFROM:-0400
TZOFFSETTO:-0500
TZNAME:EST
DTSTART:20261101T060000
END:STANDARD
BEGIN:DAYLIGHT
TZOFFSETFROM:-0500
TZOFFSETTO:-0400
TZNAME:EDT
DTSTART:20270314T070000
END:DAYLIGHT
BEGIN:STANDARD
TZOFFSETFROM:-0400
TZOFFSETTO:-0500
TZNAME:EST
DTSTART:20271107T060000
END:STANDARD
END:VTIMEZONE
BEGIN:VEVENT
DTSTART;TZID=America/New_York:20260409T170000
DTEND;TZID=America/New_York:20260409T200000
DTSTAMP:20260423T051607
CREATED:20251214T233515Z
LAST-MODIFIED:20260409T234822Z
UID:17013-1775754000-1775764800@ericvonmusic.com
SUMMARY:Evie’s on the Bay Tiki Bar
DESCRIPTION:Come down and chill at the Tiki at Evie’s on the bay! Great Drinks\, amazing food and Music! I’ll see you there!!\nShow time-5:00-8:00pm\nLocated at: 135 Bayview Dr\nOsprey FL\, 3429
URL:https://ericvonmusic.com/event/evies-on-the-bay-tiki-bar-2/
LOCATION:Evie’s at Spanish Point – The Tiki\, 135 Bayview Dr\, Osprey\, FL\, United States
END:VEVENT
BEGIN:VEVENT
DTSTART;TZID=America/New_York:20260404T183000
DTEND;TZID=America/New_York:20260404T223000
DTSTAMP:20260423T051607
CREATED:20251214T233515Z
LAST-MODIFIED:20260405T021734Z
UID:17012-1775327400-1775341800@ericvonmusic.com
SUMMARY:Motorworks Eric Von Band
DESCRIPTION:Come out and join us at Motorworks Brewing! The boys and I take stage at 6:30pm to 10:30pm. \nMotorworks Brewing1014 9th St W\, Bradenton\, FL 34205
URL:https://ericvonmusic.com/event/motorworks-eric-von-band-4/
LOCATION:Motorworks Brewing\, 1014 9th St W\, Bradenton\, FL\, United States
END:VEVENT
BEGIN:VEVENT
DTSTART;TZID=America/New_York:20260402T170000
DTEND;TZID=America/New_York:20260402T210000
DTSTAMP:20260423T051607
CREATED:20251214T233515Z
LAST-MODIFIED:20260403T001732Z
UID:17011-1775149200-1775163600@ericvonmusic.com
SUMMARY:Woody's River Roo Pub & Grill
DESCRIPTION:Woody’s River Roo Pub & Grill \nCome out and party with us at Woody’s River Roo Pub & Grill! Great food\, good drinks\, and Country Music…. How could you go wrong!  \n5:00-9:00pm \nWoodys River Roo5717 18th St E\, Ellenton\, FL 34222
URL:https://ericvonmusic.com/event/woodys-river-roo-pub-grill-4/
LOCATION:Woody’s River Roo Pub & Grill\, 5717 18th St E\, Ellenton\, FL\, United States
END:VEVENT
BEGIN:VEVENT
DTSTART;TZID=America/New_York:20260401T190000
DTEND;TZID=America/New_York:20260401T220000
DTSTAMP:20260423T051607
CREATED:20251214T233515Z
LAST-MODIFIED:20260402T014713Z
UID:17010-1775070000-1775080800@ericvonmusic.com
SUMMARY:88 Live Eric Von Band
DESCRIPTION:Come out and join the boys and I at 88 Live Piano Bar! We will take stage from 7 to 10 PM. Five dollar cover charge at the door. Hope to see you there!! \n88 Live Piano Bar and more!6640 Cortez Rd W Suite A\, Bradenton\, FL 34210\, USA
URL:https://ericvonmusic.com/event/88-live-eric-von-band-6/
LOCATION:88 Live Piano Bar and more!\, 6640 Cortez Rd W\, Bradenton\, FL\, United States
END:VEVENT
BEGIN:VEVENT
DTSTART;TZID=America/New_York:20260327T193000
DTEND;TZID=America/New_York:20260327T233000
DTSTAMP:20260423T051607
CREATED:20251214T233515Z
LAST-MODIFIED:20260328T031808Z
UID:17009-1774639800-1774654200@ericvonmusic.com
SUMMARY:Freckled Fin Irish Pub
DESCRIPTION:Come out and Party with us at Freckled Finn! Show time is from 7:30-11:30pm. Good food\, great drinks and awesome music!  \nFreckled Finn5337 Gulf Dr\, Holmes Beach\, FL 34217
URL:https://ericvonmusic.com/event/freckled-fin-irish-pub-7/
LOCATION:500\, 5337 Gulf Dr\, Bradenton Beach\, FL\, United States
END:VEVENT
BEGIN:VEVENT
DTSTART;TZID=America/New_York:20260326T190000
DTEND;TZID=America/New_York:20260326T220000
DTSTAMP:20260423T051607
CREATED:20251214T233514Z
LAST-MODIFIED:20260327T014722Z
UID:17008-1774551600-1774562400@ericvonmusic.com
SUMMARY:Island Time Bar & Grill
DESCRIPTION:Come join the party at Island Time Bar & Grill! Come eat\, drink and dance the afternoon away with us!  \nhttp://islandtimebarandgrill.com \n7:00-10:00pm \nIsland Time Bar And Grill 111 Gulf DriveSouth Bradenton Beach\, FL 342171st Floor  \n941-782-1122
URL:https://ericvonmusic.com/event/island-time-bar-grill-2/
LOCATION:111 Gulf Drive South Bradenton Beach\, Bradenton Beach\, FL\, United States
END:VEVENT
END:VCALENDAR