BEGIN:VCALENDAR
VERSION:2.0
PRODID:-//Eric Von - ECPv6.15.20//NONSGML v1.0//EN
CALSCALE:GREGORIAN
METHOD:PUBLISH
X-WR-CALNAME:Eric Von
X-ORIGINAL-URL:https://ericvonmusic.com
X-WR-CALDESC:Events for Eric Von
REFRESH-INTERVAL;VALUE=DURATION:PT1H
X-Robots-Tag:noindex
X-PUBLISHED-TTL:PT1H
BEGIN:VTIMEZONE
TZID:America/New_York
BEGIN:DAYLIGHT
TZOFFSETFROM:-0500
TZOFFSETTO:-0400
TZNAME:EDT
DTSTART:20260308T070000
END:DAYLIGHT
BEGIN:STANDARD
TZOFFSETFROM:-0400
TZOFFSETTO:-0500
TZNAME:EST
DTSTART:20261101T060000
END:STANDARD
BEGIN:DAYLIGHT
TZOFFSETFROM:-0500
TZOFFSETTO:-0400
TZNAME:EDT
DTSTART:20270314T070000
END:DAYLIGHT
BEGIN:STANDARD
TZOFFSETFROM:-0400
TZOFFSETTO:-0500
TZNAME:EST
DTSTART:20271107T060000
END:STANDARD
BEGIN:DAYLIGHT
TZOFFSETFROM:-0500
TZOFFSETTO:-0400
TZNAME:EDT
DTSTART:20280312T070000
END:DAYLIGHT
BEGIN:STANDARD
TZOFFSETFROM:-0400
TZOFFSETTO:-0500
TZNAME:EST
DTSTART:20281105T060000
END:STANDARD
END:VTIMEZONE
BEGIN:VEVENT
DTSTART;TZID=America/New_York:20270702T183000
DTEND;TZID=America/New_York:20270702T223000
DTSTAMP:20260423T180535
CREATED:20260411T191756Z
LAST-MODIFIED:20260422T003249Z
UID:22374-1814553000-1814567400@ericvonmusic.com
SUMMARY:Motorworks Eric Von Band
DESCRIPTION:Come out and join us at Motorworks Brewing! The boys and I take stage at 6:30pm to 10:30pm. \nMotorworks Brewing1014 9th St W\, Bradenton\, FL 34205
URL:https://ericvonmusic.com/event/motorworks-eric-von-band-16/
LOCATION:Motorworks Brewing\, 1014 9th St W\, Bradenton\, FL\, United States
END:VEVENT
BEGIN:VEVENT
DTSTART;TZID=America/New_York:20270717T170000
DTEND;TZID=America/New_York:20270717T210000
DTSTAMP:20260423T180535
CREATED:20260204T183332Z
LAST-MODIFIED:20260422T003249Z
UID:19016-1815843600-1815858000@ericvonmusic.com
SUMMARY:Clancy's Sports Bar & Grill
DESCRIPTION:Come out and party at the tiki bar at Clancy’s!! Show time is from 5:00-9:00pm! See you there! \nClancy's Sports Bar & Grill6218 Cortez Rd W\, Bradenton\, FL 34210\, USA
URL:https://ericvonmusic.com/event/clancys-sports-bar-grill-14/
LOCATION:Clancy’s Sports Bar & Grill\, 6218 Cortez Rd W\, Bradenton\, FL\, United States
END:VEVENT
BEGIN:VEVENT
DTSTART;TZID=America/New_York:20270806T183000
DTEND;TZID=America/New_York:20270806T223000
DTSTAMP:20260423T180535
CREATED:20260411T191756Z
LAST-MODIFIED:20260422T003249Z
UID:22375-1817577000-1817591400@ericvonmusic.com
SUMMARY:Motorworks Eric Von Band
DESCRIPTION:Come out and join us at Motorworks Brewing! The boys and I take stage at 6:30pm to 10:30pm. \nMotorworks Brewing1014 9th St W\, Bradenton\, FL 34205
URL:https://ericvonmusic.com/event/motorworks-eric-von-band-17/
LOCATION:Motorworks Brewing\, 1014 9th St W\, Bradenton\, FL\, United States
END:VEVENT
BEGIN:VEVENT
DTSTART;TZID=America/New_York:20270821T170000
DTEND;TZID=America/New_York:20270821T210000
DTSTAMP:20260423T180535
CREATED:20260204T183332Z
LAST-MODIFIED:20260422T003249Z
UID:19017-1818867600-1818882000@ericvonmusic.com
SUMMARY:Clancy's Sports Bar & Grill
DESCRIPTION:Come out and party at the tiki bar at Clancy’s!! Show time is from 5:00-9:00pm! See you there! \nClancy's Sports Bar & Grill6218 Cortez Rd W\, Bradenton\, FL 34210\, USA
URL:https://ericvonmusic.com/event/clancys-sports-bar-grill-15/
LOCATION:Clancy’s Sports Bar & Grill\, 6218 Cortez Rd W\, Bradenton\, FL\, United States
END:VEVENT
BEGIN:VEVENT
DTSTART;TZID=America/New_York:20270903T183000
DTEND;TZID=America/New_York:20270903T223000
DTSTAMP:20260423T180535
CREATED:20260411T191756Z
LAST-MODIFIED:20260422T003249Z
UID:22376-1819996200-1820010600@ericvonmusic.com
SUMMARY:Motorworks Eric Von Band
DESCRIPTION:Come out and join us at Motorworks Brewing! The boys and I take stage at 6:30pm to 10:30pm. \nMotorworks Brewing1014 9th St W\, Bradenton\, FL 34205
URL:https://ericvonmusic.com/event/motorworks-eric-von-band-18/
LOCATION:Motorworks Brewing\, 1014 9th St W\, Bradenton\, FL\, United States
END:VEVENT
BEGIN:VEVENT
DTSTART;TZID=America/New_York:20270918T170000
DTEND;TZID=America/New_York:20270918T210000
DTSTAMP:20260423T180535
CREATED:20260204T183332Z
LAST-MODIFIED:20260422T003249Z
UID:19018-1821286800-1821301200@ericvonmusic.com
SUMMARY:Clancy's Sports Bar & Grill
DESCRIPTION:Come out and party at the tiki bar at Clancy’s!! Show time is from 5:00-9:00pm! See you there! \nClancy's Sports Bar & Grill6218 Cortez Rd W\, Bradenton\, FL 34210\, USA
URL:https://ericvonmusic.com/event/clancys-sports-bar-grill-16/
LOCATION:Clancy’s Sports Bar & Grill\, 6218 Cortez Rd W\, Bradenton\, FL\, United States
END:VEVENT
BEGIN:VEVENT
DTSTART;TZID=America/New_York:20271001T183000
DTEND;TZID=America/New_York:20271001T223000
DTSTAMP:20260423T180535
CREATED:20260411T191757Z
LAST-MODIFIED:20260422T003249Z
UID:22377-1822415400-1822429800@ericvonmusic.com
SUMMARY:Motorworks Eric Von Band
DESCRIPTION:Come out and join us at Motorworks Brewing! The boys and I take stage at 6:30pm to 10:30pm. \nMotorworks Brewing1014 9th St W\, Bradenton\, FL 34205
URL:https://ericvonmusic.com/event/motorworks-eric-von-band-19/
LOCATION:Motorworks Brewing\, 1014 9th St W\, Bradenton\, FL\, United States
END:VEVENT
BEGIN:VEVENT
DTSTART;TZID=America/New_York:20271016T170000
DTEND;TZID=America/New_York:20271016T210000
DTSTAMP:20260423T180535
CREATED:20260204T183332Z
LAST-MODIFIED:20260422T003249Z
UID:19019-1823706000-1823720400@ericvonmusic.com
SUMMARY:Clancy's Sports Bar & Grill
DESCRIPTION:Come out and party at the tiki bar at Clancy’s!! Show time is from 5:00-9:00pm! See you there! \nClancy's Sports Bar & Grill6218 Cortez Rd W\, Bradenton\, FL 34210\, USA
URL:https://ericvonmusic.com/event/clancys-sports-bar-grill-17/
LOCATION:Clancy’s Sports Bar & Grill\, 6218 Cortez Rd W\, Bradenton\, FL\, United States
END:VEVENT
BEGIN:VEVENT
DTSTART;TZID=America/New_York:20271105T183000
DTEND;TZID=America/New_York:20271105T223000
DTSTAMP:20260423T180535
CREATED:20260411T191757Z
LAST-MODIFIED:20260422T003250Z
UID:22378-1825439400-1825453800@ericvonmusic.com
SUMMARY:Motorworks Eric Von Band
DESCRIPTION:Come out and join us at Motorworks Brewing! The boys and I take stage at 6:30pm to 10:30pm. \nMotorworks Brewing1014 9th St W\, Bradenton\, FL 34205
URL:https://ericvonmusic.com/event/motorworks-eric-von-band-20/
LOCATION:Motorworks Brewing\, 1014 9th St W\, Bradenton\, FL\, United States
END:VEVENT
BEGIN:VEVENT
DTSTART;TZID=America/New_York:20271120T170000
DTEND;TZID=America/New_York:20271120T210000
DTSTAMP:20260423T180535
CREATED:20260204T190342Z
LAST-MODIFIED:20260422T003250Z
UID:19037-1826730000-1826744400@ericvonmusic.com
SUMMARY:Clancy's Sports Bar & Grill
DESCRIPTION:Come out and party at the tiki bar at Clancy’s!! Show time is from 5:00-9:00pm! See you there! \nClancy's Sports Bar & Grill6218 Cortez Rd W\, Bradenton\, FL 34210\, USA
URL:https://ericvonmusic.com/event/clancys-sports-bar-grill-18/
LOCATION:Clancy’s Sports Bar & Grill\, 6218 Cortez Rd W\, Bradenton\, FL\, United States
END:VEVENT
BEGIN:VEVENT
DTSTART;TZID=America/New_York:20271203T183000
DTEND;TZID=America/New_York:20271203T223000
DTSTAMP:20260423T180535
CREATED:20260411T191757Z
LAST-MODIFIED:20260422T003250Z
UID:22379-1827858600-1827873000@ericvonmusic.com
SUMMARY:Motorworks Eric Von Band
DESCRIPTION:Come out and join us at Motorworks Brewing! The boys and I take stage at 6:30pm to 10:30pm. \nMotorworks Brewing1014 9th St W\, Bradenton\, FL 34205
URL:https://ericvonmusic.com/event/motorworks-eric-von-band-21/
LOCATION:Motorworks Brewing\, 1014 9th St W\, Bradenton\, FL\, United States
END:VEVENT
BEGIN:VEVENT
DTSTART;TZID=America/New_York:20271217T180000
DTEND;TZID=America/New_York:20271217T220000
DTSTAMP:20260423T180535
CREATED:20260204T190342Z
LAST-MODIFIED:20260422T003250Z
UID:19038-1829066400-1829080800@ericvonmusic.com
SUMMARY:Clancy's Sports Bar & Grill (Eric Von Band)
DESCRIPTION:Come out and party at the tiki bar at Clancy’s!! Show time is from 6:00-10:00pm! See you there! \nClancy's Sports Bar & Grill6218 Cortez Rd W\, Bradenton\, FL 34210\, USA
URL:https://ericvonmusic.com/event/clancys-sports-bar-grill-eric-von-band/
LOCATION:Clancy’s Sports Bar & Grill\, 6218 Cortez Rd W\, Bradenton\, FL\, United States
END:VEVENT
END:VCALENDAR